

BEGIN:VCALENDAR
VERSION:2.0
PRODID:-//hacksw/handcal//NONSGML v1.0//EN
CALSCALE:GREGORIAN
BEGIN:VEVENT
DTEND:20190808T090000
UID:5e5be12df1228
DTSTAMP:20200302T032205
LOCATION:The Shrine of Remembrance Birdwood Avenue Melbourne 3000 VIC
DESCRIPTION:101st Anniversary of 0808 - The Battle of Amiens. Gather at the Shrine of Remembrance at 07:45 am for the over-flight by the Sopwith and RE8 vintage aircraft. All welcome\, no registration required.
This event is run in conjunction with&nbsp\;Rotary Club of Melbourne\, the Shrine of Remembrance\, The General Sir John Monash&nbsp\;Foundation\, and Engineers Australia - Victorian Division.
URL;VALUE=URI:http://pipeclay.com.au/event/39834
SUMMARY:Battle of Amiens Commemoration at the Shrine - 101st Anniversary
DTSTART:20190808T074500
END:VEVENT
END:VCALENDAR

